BEGIN:VCALENDAR
VERSION:2.0
CALSCALE:GREGORIAN
PRODID:adamgibbons/ics
METHOD:PUBLISH
X-PUBLISHED-TTL:PT1H
BEGIN:VEVENT
UID:19779@offbeat.amsterdam
SUMMARY:Bloodywood
DTSTAMP:20260421T084057Z
DTSTART:20260621T170000Z
URL:https://offbeat.amsterdam/event/bloodywood-1
GEO:52.3647777;4.881073026725959
LOCATION:Melkweg - Lijnbaansgracht 234A\, 1017 PH Amsterdam
STATUS:CONFIRMED
CATEGORIES:amsterdam-centrum,concert,folk metal,heavy,leidseplein,metal
END:VEVENT
END:VCALENDAR
